BEGIN:VCALENDAR
VERSION:2.0
PRODID:-//wp-events-plugin.com//7.2.3.1//EN
TZID:America/Los_Angeles
X-WR-TIMEZONE:America/Los_Angeles
BEGIN:VEVENT
UID:91@taylormadetds.com
DTSTART;TZID=America/Los_Angeles:20250503T070000
DTEND;TZID=America/Los_Angeles:20250504T163000
DTSTAMP:20250428T174417Z
URL:https://taylormadetds.com/events/hazmat-5-3-25/
SUMMARY:HazMat
DESCRIPTION:This course is designed for those who choose to add the Hazard
 ous Materials Endorsement to their existing CDL.\n\nIn this course\, each
  student will receive no less than 16 hours of classroom education\, taugh
 t by an instructor with years of HAZMAT experience.\n\n\n Apply to atten
 d this course.\n
ATTACH;FMTTYPE=image/jpeg:https://taylormadetds.com/wp-content/uploads/202
 4/06/panel-hazmat.jpg
CATEGORIES:HazMat
END:VEVENT
BEGIN:VTIMEZONE
TZID:America/Los_Angeles
X-LIC-LOCATION:America/Los_Angeles
BEGIN:DAYLIGHT
DTSTART:20250309T030000
TZOFFSETFROM:-0800
TZOFFSETTO:-0700
TZNAME:PDT
END:DAYLIGHT
END:VTIMEZONE
END:VCALENDAR